BEGIN:VCALENDAR
VERSION:2.0
PRODID:-//Imago Center //NONSGML Events //EN
CALSCALE:GREGORIAN
X-WR-CALNAME:Imago Center
BEGIN:VEVENT
CREATED:20260421T150958Z
UID:29037
DTEND:19691231T190000
DTSTART:20260601T120000
DTSTAMP:20260422T134428Z
LOCATION:Zoom
DESCRIPTION:
SUMMARY:Free Online Intro to Imago for Therapists and Grad Students
ORGANIZER:Imago Center
URL;VALUE=URI:https://imagocenterdc.com/product/intro-to-imago-june-2026
TRANSP:OPAQUE
BEGIN:VALARM
ACTION:DISPLAY
TRIGGER;VALUE=DATE-TIME:
DESCRIPTION:Reminder for Free Online Intro to Imago for Therapists and Grad Students
END:VALARM
END:VEVENT
END:VCALENDAR
