BEGIN:VCALENDAR
VERSION:2.0
PRODID:-//Imago Center //NONSGML Events //EN
CALSCALE:GREGORIAN
X-WR-CALNAME:Imago Center
BEGIN:VEVENT
CREATED:20260422T160335Z
UID:29045
DTEND:20260927T183000
DTSTART:20260926T083000
DTSTAMP:20260424T050359Z
LOCATION:Metro DC
DESCRIPTION:
SUMMARY:Keeping the Love You Find™
ORGANIZER:Imago Center
URL;VALUE=URI:https://imagocenterdc.com/product/keeping-the-love-you-find-092626
TRANSP:OPAQUE
BEGIN:VALARM
ACTION:DISPLAY
TRIGGER;VALUE=DATE-TIME:
DESCRIPTION:Reminder for Keeping the Love You Find™
END:VALARM
END:VEVENT
END:VCALENDAR
